Workbook

Sheet Partner Info
B2: Company Details
B3: Business Summary:
B6: Current Revenue:
B7: End of Year Revenue Goal:
B8: Current Team Size:
B9: Fiscal Year Starts:
B10: How are Marketing Team Goaled?
B11: How are Sales Team Goaled?
B13: Go to Market (GTM) Models & Motions: How do you find new Customers?
B14: GTM Strategy:
B15: Primary GTM Motion:
B16: Secondary GTM Motion:
B20: Data Model: How do you make money? How do you organize the data? | C20: Partitions | D20: % of Revenue
B21: Data Model(s): How do you make money? 1) Recurring: $ per time period (month to years) | Examples: RP, SaaS, Amazon Prime. 2) Non-Recurring: $ per transaction | Examples: RP, Manufacturing Goods, eCommerce. 3) Usage: $ per credit usage | Examples: AWS, Twillo | C21: Partition 1 | D21: 0
C22: Partition 2 | D22: 0
C23: Partition 3 | D23: 0
B24: Business Segment(s): What are the PRIMARY category options with which you segment your revenue in reporting? - Showcases any changes in differing GTM Motions, ICP, Delivery of the Product Examples: - RevPartners = By Products: RevOps and Allbound - ____ = By Global Region (EMEA, APAC, and the Americas) - ____ = By GTM Strategy (PLG, 2-stage, Enteprise / Named Account) - Amazon = By Products (Marketplace, AWS, D2C Subscriptions) - Uber = By Product Rides, Eats - HubSpot = By Product Categories (Subscription, Professional Services, etc.)
C25: Segment 1 | D25: 0
C26: Segment 2 | D26: 0
C27: Segment 3 | D27: 0
B34: Metrics: How do you track success? How to segment deeper?
B35: North Star Metric:
B36: Deal Source: (HubSpot Property)
B37: Specific Source: (HubSpot Property)
B39: Dashboards: Where do you track success?
B40: Executive Dashboard
B41: Marketing Dashboard
B42: Sales Dashboard
B43: CS Dashboard

Sheet Product Discovery
B1: Product Discovery
B2: Product Information | E2: Revenue Information | L2: Pre-requisites
B3: Product Name | C3: Description | D3: Category | E3: Data Model | F3: Pricing | G3: Price | H3: Frequency | I3: Average Sales Cycle (in days)
B13: Onboarding | C13: fill in this line item if onboarding to your product/service is considered a product
B14: Support / Maintenance | C14: fill in this line item if support is a paid service or not offered as standard. Add additional rows if tiers.

Sheet Data Model Discovery Recurring
B1: Data Model Discovery: Recurring
B3: Left Side: Process Steps | C3: ="Business Segment #1: "&'Partner Info'!C24 -> Business Segment #1: | G3: ="Business Segment #2: "&'Partner Info'!C25 -> Business Segment #2: Segment 1
B4: Data Model Location | C4: KPI | D4: Trigger | E4: Primary Partitions | F4: System: Object | G4: KPI | H4: Trigger | I4: Primary Parititons | J4: System: Object
B5: V1 | C5: Session | F5: Hubspot: Sessions | G5: =C5 -> Session | H5: =D5 | J5: Hubspot: Sessions
B6: V2 | C6: Lead | F6: Hubspot: Contact | G6: =C6 -> Lead | H6: =D6 | J6: Hubspot: Contact
B7: V3 | C7: MQL | F7: Hubspot: Contact | G7: =C7 -> MQL | H7: =D7 | J7: Hubspot: Contact
B8: V4 | C8: SQL | F8: Hubspot: Contact | G8: =C8 -> SQL | H8: =D8 | J8: Hubspot: Contact
B9: V5 | C9: Deals Created | F9: Hubspot: Deals | G9: =C9 -> Deals Created | H9: =D9 | J9: Hubspot: Deals
B10: V6 | C10: Closed Won | F10: Hubspot: Deals | G10: =C10 -> Closed Won | H10: =D10 | J10: Hubspot: Deals
B11: V 7.A | C11: Closed MRR | F11: Hubspot: Line Items | G11: =C11 -> Closed MRR | H11: =D11 | J11: Hubspot: Line Items
B12: V 7.B | C12: Closed NRR | F12: Hubspot: Line Items | G12: =C12 -> Closed NRR | H12: =D12 | J12: Hubspot: Line Items
B13: Right Side: Recurring Steps | L13: Right Side: Finance Steps | M13: KPI | N13: Trigger | O13: Primary Partitions | P13: System: Object
B14: V7.A | C14: Net New | F14: Hubspot: Deals | G14: =C14 -> Net New | H14: =D14 | J14: Hubspot: Deals | L14: V8 | M14: Net New | P14: ERP: Invoice
B15: V8 | C15: Cross-Sell | F15: Hubspot: Deals | G15: =C15 -> Cross-Sell | H15: =D15 | J15: Hubspot: Deals | L15: V9 | M15: Cross-Sell | P15: ERP: Invoice
B16: V9 | C16: Expansion | F16: Hubspot: Deals | G16: =C16 -> Expansion | H16: =D16 | J16: Hubspot: Deals | L16: V10 | M16: Expansion | P16: ERP: Invoice
B17: V10 | C17: Downgrade | F17: Hubspot: Deals | G17: =C17 -> Downgrade | H17: =D17 | J17: Hubspot: Deals | L17: V11 | M17: Downgrade | P17: ERP: Invoice
B18: V11 | C18: Churn | F18: Hubspot: Deals | G18: =C18 -> Churn | H18: =D18 | J18: Hubspot: Deals | L18: V12 | M18: Churn | P18: ERP: Invoice
E28: Example: RevPartners
B29: Left Side: Process Steps | C29: Business Segment #1: RevOps | G29: Business Segment #2: Allbound
B30: Data Model Location | C30: KPI | D30: Trigger | E30: Primary Partitions | F30: System: Object | G30: KPI | H30: Trigger | I30: Primary Parititons | J30: System: Object
B31: V1 | C31: Session | D31: Total Sessions on Website | F31: Hubspot: Sessions | G31: =C31 -> Session | H31: Total Sessions on Website | J31: Hubspot: Sessions
B32: V2 | C32: Lead | D32: Contact created in CRM | E32: Original Source, GTM Summary, Job Title, ICP Tier | F32: Hubspot: Contact | G32: =C32 -> Lead | H32: Contact created in CRM | J32: Hubspot: Contact
B33: V3 | C33: MQL | D33: Contact hits lead score > 20 or hard website conversion / event | E33: Original Source, GTM Summary, Job Title, ICP Tier | F33: Hubspot: Contact | G33: =C33 -> MQL | H33: Contact hits lead score > 20 | J33: Hubspot: Contact
B34: V4 | C34: SQL | D34: Initial Meeting w/ Sales | E34: Deal Source, Product Type, Product Category, MEDDPICC Score, GTM Motion | F34: Hubspot: Deals | G34: =C34 -> SQL | H34: Contact fills in contact form or books meeting w sales | J34: Hubspot: Deals
B35: V5 | C35: Deals Created | D35: Qualification criteria is met (BANT or MEddic) | E35: Deal Source, Product Type, Product Category, MEDDPICC Score, GTM Motion | F35: Hubspot: Deals | G35: =C35 -> Deals Created | H35: Deal moved to stage one after qualification criteria met | J35: Hubspot: Deals
B36: V6 | C36: Closed Won | D36: Contract signed | E36: Amount, Deal Source, Product Type, Product Category, MEDDPICC Score, GTM Motion | F36: Hubspot: Deals | G36: =C36 -> Closed Won | H36: Contract signed, deal stage = CW | J36: Hubspot: Deals
B37: V 7.A | C37: Closed MRR | D37: Sum of TCV from MRR line items | E37: MRR Amount, Deal Owner, Deal Source, Product Type, Product Category | F37: Hubspot: Deal Property | G37: =C37 -> Closed MRR | H37: Sum of TCV from MRR line items | J37: Hubspot: Deal Property
B38: V 7.B | C38: Closed NRR | D38: Sum of TCV from NRR line items | E38: NRR Amount, Deal Owner, Deal Source, Product Type, Product Category | F38: Hubspot: Deal Property | G38: =C38 -> Closed NRR | H38: Sum of TCV from NRR line items | J38: Hubspot: Deal Property
B39: Right Side: Recurring Steps | L39: Right Side: Finance Steps | M39: KPI | N39: Trigger | O39: Primary Partitions | P39: System: Object
B40: V8 | C40: Net New | D40: Net new partner, Kickoff scheduled | E40: Close Date, Rev Strategist, Pod, Product Category | F40: Hubspot: Deals | G40: =C40 -> Net New | H40: Kickoff scheduled | J40: Hubspot: Deals | L40: V8 | M40: Net New | N40: Set up invoicing in QB | P40: Quickbooks: Invoice
B41: V9 | C41: Cross-Sell | D41: Existing NRR customer converts to MRR product, existing MRR customer adds GM | E41: Contract End Date, Rev Strategist, Pod, Revenue Type, Product Type | F41: Hubspot: Deals | G41: =C41 -> Cross-Sell | H41: Existing NRR customer converts to MRR product, existing MRR customer adds RoaaS | J41: Hubspot: Deals | L41: V9 | M41: Cross-Sell | N41: Set up recurring invoicing in QB | P41: Quickbooks: Invoice
B42: V10 | C42: Expansion | D42: Sign contract for increase in MRR | E42: Contract End Date, Rev Strategist, Pod, Revenue Type, Product Type | F42: Hubspot: Deals | G42: =C42 -> Expansion | H42: Sign contract for increase in MRR | J42: Hubspot: Deals | L42: V10 | M42: Expansion | N42: Increase Revenue in QB | P42: Quickbooks: Invoice
B43: V11 | C43: Downgrade | D43: Sign contract for decrease in MRR | E43: Contract End Date, Rev Strategist, Pod, Revenue Type, Product Type | F43: Hubspot: Deals | G43: =C43 -> Downgrade | H43: Sign contract for decrease in MRR | J43: Hubspot: Deals | L43: V11 | M43: Downgrade | N43: Reduce Revenue in QB | P43: Quickbooks: Invoice
B44: V12 | C44: Churn | D44: Cancel engagement | E44: Contract End Date, Rev Strategist, Pod, Revenue Type, Product Type | F44: Hubspot: Deals | G44: =C44 -> Churn | H44: Cancel engagement | J44: Hubspot: Deals | L44: V12 | M44: Churn | N44: Cancel recurring invoices in QB | P44: Quickbooks: Invoice

Sheet Data Model Discovery Non-Recurr
B1: Data Model Discovery: Non-Recurring
B3: Left Side: Process Steps | C3: ="Business Segment #1: "&'Partner Info'!C24 -> Business Segment #1: | G3: ="Business Segment #2: "&'Partner Info'!C25 -> Business Segment #2: Segment 1
B4: Data Model Location | C4: KPI | D4: Trigger | E4: Primary Partitions | F4: System: Object | G4: KPI | H4: Trigger | I4: Primary Parititons | J4: System: Object
B5: V1 | C5: Session | F5: Hubspot: Sessions | G5: =C5 -> Session | H5: =D5 | J5: =F5 -> Hubspot: Sessions
B6: V2 | C6: Lead | F6: Hubspot: Contact | G6: =C6 -> Lead | H6: =D6 | J6: =F6 -> Hubspot: Contact
B7: V3 | C7: MQL | F7: Hubspot: Contact | G7: =C7 -> MQL | H7: =D7 | J7: =F7 -> Hubspot: Contact
B8: V4 | C8: SQL | F8: Hubspot: Contact | G8: =C8 -> SQL | H8: =D8 | J8: =F8 -> Hubspot: Contact
B9: V5 | C9: Opportunity | F9: Hubspot: Deals | G9: =C9 -> Opportunity | H9: =D9 | J9: =F9 -> Hubspot: Deals
B10: V6 | C10: Closed Won | F10: Hubspot: Deals | G10: =C10 -> Closed Won | H10: =D10 | J10: =F10 -> Hubspot: Deals
B11: V7 | C11: Closed Revenue | D11: How are you calculating Revenue? ie: sum of X line items on deal | F11: Hubspot: Line Items | G11: =C11 -> Closed Revenue | H11: =D11 -> How are you calculating Revenue? ie: sum of X line items on deal | J11: =F11 -> Hubspot: Line Items
B12: Right Side: Non-Recurring Steps | L12: Right Side: Finance Steps | M12: KPI | N12: Trigger | O12: Primary Partitions | P12: System: Object
B13: V8 | C13: Live | F13: ERP: Invoices | G13: =C13 -> Live | J13: =F13 -> ERP: Invoices | L13: V8 | M13: Live | N13: Send invoice | P13: ERP: Invoice
E21: Example: Manufacturing Goods
B22: Left Side: Process Steps | C22: Business Segment #1: EMEA | G22: Business Segment #2: NAM
B23: Data Model Location | C23: KPI | D23: Trigger | E23: Primary Partitions | F23: System: Object | G23: KPI | H23: Trigger | I23: Primary Parititons | J23: System: Object
B24: V1 | C24: Session | D24: Total Sessions on Website | E24: ='Data Model Discovery Recurring'!E31 | F24: Hubspot: Sessions | G24: =C24 -> Session | H24: Total Sessions on Website | I24: ='Data Model Discovery Recurring'!I31 | J24: Hubspot: Sessions
B25: V2 | C25: Lead | D25: Contact created in CRM | F25: Hubspot: Contact | G25: =C25 -> Lead | H25: Contact created in CRM | I25: ='Data Model Discovery Recurring'!I32 | J25: Hubspot: Contact
B26: V3 | C26: MQL | D26: Contact hits lead score > 50 | F26: Hubspot: Contact | G26: =C26 -> MQL | H26: Contact hits lead score > 50 | I26: ='Data Model Discovery Recurring'!I33 | J26: Hubspot: Contact
B27: V4 | C27: SQL | D27: Stage 0 Deal | E27: ='Data Model Discovery Recurring'!E34 -> Deal Source, Product Type, Product Category, MEDDPICC Score, GTM Motion | F27: Hubspot: Deals | G27: =C27 -> SQL | H27: Stage 0 Deal | I27: ='Data Model Discovery Recurring'!I34 | J27: Hubspot: Deals
B28: V5 | C28: Deals Created | D28: ='Data Model Discovery Recurring'!D35 -> Qualification criteria is met (BANT or MEddic) | E28: ='Data Model Discovery Recurring'!E35 -> Deal Source, Product Type, Product Category, MEDDPICC Score, GTM Motion | F28: Hubspot: Deals | G28: =C28 -> Deals Created | H28: Deal moved to Stage 1 after qualification criteria is met | I28: ='Data Model Discovery Recurring'!I35 | J28: Hubspot: Deals
B29: V6 | C29: Closed Won | D29: ='Data Model Discovery Recurring'!D36 -> Contract signed | E29: ='Data Model Discovery Recurring'!E36 -> Amount, Deal Source, Product Type, Product Category, MEDDPICC Score, GTM Motion | F29: Hubspot: Deals | G29: =C29 -> Closed Won | H29: Contract signed, deal stage = Closed Won | I29: ='Data Model Discovery Recurring'!I36 | J29: Hubspot: Deals
B30: V7 | C30: Closed Revenue | D30: Sales Team closed | E30: ??? | F30: Hubspot: Line Items | G30: =C30 -> Closed Revenue | H30: Sales Team closed | I30: ='Data Model Discovery Recurring'!I37 | J30: Hubspot: Line Items
B31: Right Side: Non-Recurring Steps | L31: Right Side: Finance Steps | M31: KPI | N31: Trigger | O31: Primary Partitions | P31: System: Object
B32: V8 | C32: Live | D32: Constructed & Delivered | F32: Hubspot: Ticket | G32: =C32 -> Live | J32: Hubspot: Ticket | L32: V8 | M32: Live | N32: Send invoice | P32: Quickbook: Invoice

Sheet Data Model Discovery Usage
B1: Data Model Discovery: Usage
B3: Left Side: Process Steps | C3: ="Business Segment #1: "&'Partner Info'!C24 -> Business Segment #1: | G3: ="Business Segment #2: "&'Partner Info'!C25 -> Business Segment #2: Segment 1
B4: Data Model Location | C4: KPI | D4: Trigger | E4: Primary Partitions | F4: System: Object | G4: KPI | H4: Trigger | I4: Primary Parititons | J4: System: Object
B5: V1 | C5: Session | F5: Hubspot: Sessions | G5: =C5 -> Session | H5: =D5 | J5: =F5 -> Hubspot: Sessions
B6: V2 | C6: Lead | F6: Hubspot: Contact | G6: =C6 -> Lead | H6: =D6 | J6: =F6 -> Hubspot: Contact
B7: V3 | C7: MQL | F7: Hubspot: Contact | G7: =C7 -> MQL | H7: =D7 | J7: =F7 -> Hubspot: Contact
B8: V4 | C8: SQL | F8: Hubspot: Contact | G8: =C8 -> SQL | H8: =D8 | J8: =F8 -> Hubspot: Contact
B9: V5 | C9: Opportunity | F9: Hubspot: Deals | G9: =C9 -> Opportunity | H9: =D9 | J9: =F9 -> Hubspot: Deals
B10: V6 | C10: Closed Won | F10: Hubspot: Deals | G10: =C10 -> Closed Won | H10: =D10 | J10: =F10 -> Hubspot: Deals
B11: V 6.A | C11: Closed Customer | F11: Hubspot: Deals | G11: =C11 -> Closed Customer | H11: =D11 | J11: =F11 -> Hubspot: Deals
B12: V 6.B | C12: Closed MRR | F12: Hubspot: Deals | G12: =C12 -> Closed MRR | H12: =D12 | J12: =F12 -> Hubspot: Deals
B14: Right Side: Time + Volume Based
B15: Right Side: Time Based | C15: KPI | D15: Definition | E15: System: Object | F15: Total Customers (V11) | G15: Consumption Amount (AR1) | H15: Avg. Cost/Consumption (AR2) | I15: Total Revenue (V12)
B16: V7.A | C16: New | E16: HubSpot: ____ | F16: ## | G16: # of Credits | H16: $ per credit | I16: V11 X AR1 X AR2
B17: V8.A | C17: Active | E17: Product: Usage | F17: ## | G17: # of Credits | H17: $ per credit | I17: V11 X AR1 X AR2
B18: V9.A | C18: Expanding | E18: Product: Usage | F18: ## | G18: # of Credits | H18: $ per credit | I18: V11 X AR1 X AR2
B19: V10.A | C19: Lapsing | E19: Product: Usage | F19: ## | G19: # of Credits | H19: $ per credit | I19: V11 X AR1 X AR2
B20: V11 | C20: Total Customers | D20: Equals = New + Active + Lapsing | E20: Formula | G20: # of Credits | H20: $ per credit | I20: V11 X AR1 X AR2
B21: V13 | C21: Recent Churn | E21: HubSpot: ____ | F21: ## | G21: # of Credits | H21: $ per credit | I21: V11 X AR1 X AR2
B22: V14 | C22: Churned | E22: HubSpot: ____ | F22: ## | G22: # of Credits | H22: $ per credit | I22: V11 X AR1 X AR2
B23: Right Side: Volume Based
B24: V7.B | C24: New | E24: HubSpot: ____ | F24: ## | G24: # of Credits | H24: $ per credit | I24: V11 X AR1 X AR2
B25: V8.B | C25: Tier 1 | E25: Product: Usage | F25: ## | G25: # of Credits | H25: $ per credit | I25: V11 X AR1 X AR2
B26: V9.B | C26: Tier 2 | E26: Product: Usage | F26: ## | G26: # of Credits | H26: $ per credit | I26: V11 X AR1 X AR2
B27: V10.B | C27: Tier 3 | E27: Product: Usage | F27: ## | G27: # of Credits | H27: $ per credit | I27: V11 X AR1 X AR2
B28: V11 | C28: Total Customers | D28: Equals = Tier 1 + Tier 2 + Tier 3 | E28: Formula | G28: # of Credits | H28: $ per credit | I28: V11 X AR1 X AR2
B29: V13 | C29: Recent Churn | E29: HubSpot: ____ | F29: ## | G29: # of Credits | H29: $ per credit | I29: V11 X AR1 X AR2
B30: V14 | C30: Churned | E30: HubSpot: ____ | F30: ## | G30: # of Credits | H30: $ per credit | I30: V11 X AR1 X AR2
E38: Example: AWS
B39: Left Side: Process Steps | C39: Business Segment #1: | G39: Business Segment #2:
B40: Data Model Location | C40: KPI | D40: Trigger | E40: Primary Partitions | F40: System: Object | G40: KPI | H40: Trigger | I40: Primary Parititons | J40: System: Object
B41: V1 | C41: Session | F41: Hubspot: Sessions | G41: =C41 -> Session | H41: =D41 | J41: =F41 -> Hubspot: Sessions
B42: V2 | C42: Lead | F42: Hubspot: Contact | G42: =C42 -> Lead | H42: =D42 | J42: =F42 -> Hubspot: Contact
B43: V3 | C43: MQL | F43: Hubspot: Contact | G43: =C43 -> MQL | H43: =D43 | J43: =F43 -> Hubspot: Contact
B44: V4 | C44: SQL | F44: Hubspot: Contact | G44: =C44 -> SQL | H44: =D44 | J44: =F44 -> Hubspot: Contact
B45: V5 | C45: Deals Created | F45: Hubspot: Deals | G45: =C45 -> Deals Created | H45: =D45 | J45: =F45 -> Hubspot: Deals
B46: V6 | C46: Closed Won | F46: Hubspot: Deals | G46: =C46 -> Closed Won | H46: =D46 | J46: =F46 -> Hubspot: Deals
B47: V 6.A | C47: Closed Customer | F47: Hubspot: Deals | G47: =C47 -> Closed Customer | H47: =D47 | J47: =F47 -> Hubspot: Deals
B48: V 6.B | C48: Closed NRR | F48: Hubspot: Deals | G48: =C48 -> Closed NRR | H48: =D48 | J48: =F48 -> Hubspot: Deals
B50: Right Side: Time + Volume Based
...

Sheet Data Model Change Timeline
A1: Data Model Location | B1: KPI Name | C1: New Definition | D1: Previous Definition | E1: Updated on Data Model Discovery Tab | F1: Change Date
A2: V1 | B2: Sessions | E2: FALSE | F2: 45658
A3: V2 | B3: Leads | E3: FALSE
A4: ... | B4: ... | E4: FALSE
E5: FALSE
E6: FALSE
E7: FALSE
E8: FALSE
E9: FALSE
E10: FALSE
E11: FALSE
